BEGIN:VCALENDAR
VERSION:2.0
PRODID:-//Plone.org//NONSGML plone.app.event//EN
X-WR-TIMEZONE:Europe/Madrid
BEGIN:VEVENT
SUMMARY:Consell de Govern UPC
DTSTART;TZID=Europe/Madrid:20241025T090000
DTEND;TZID=Europe/Madrid:20241025T140000
DTSTAMP:20260420T081041Z
UID:ed1721d993cc45a7942df6b6856a70d6@egd.upc.edu
CREATED:20241007T155926Z
LAST-MODIFIED:20241007T155934Z
URL:https://egd.upc.edu/ca/esdeveniments/consell-de-govern-upc
END:VEVENT
BEGIN:VTIMEZONE
TZID:Europe/Madrid
X-LIC-LOCATION:Europe/Madrid
BEGIN:DAYLIGHT
DTSTART:20240331T030000
TZNAME:CEST
TZOFFSETFROM:+0100
TZOFFSETTO:+0200
END:DAYLIGHT
END:VTIMEZONE
END:VCALENDAR
